BEGIN:VCALENDAR
VERSION:2.0
PRODID:-//hacksw/handcal//NONSGML v1.0//EN
BEGIN:VEVENT
SUMMARY:Gala fin de saison
UID:460f1de3-2330-46a1-afab-fab4ddbf4d7d
DTSTART:20260627T150000Z
DTEND:20260627T210000Z
LOCATION:Saint Jean Gymnique Espace Rene Cassin, Route de Montrabe 31240 Saint Jean
CATEGORIES:Festif
STATUS:
DESCRIPTION:<h2 style="text-align:center;"><strong>Gala de fin de
 saison !</strong></h2>
 
 <h2 style="text-align:center;"><strong>1ere
 partie Secteur Petite Enfance -> Baby Gym et Eveil, Handi Sport avec
 des demonstrations !</strong></h2>
 
 <h2
 style="text-align:center;"><strong>2eme Partie Secteur, GAM, GAF, GR
 & Teamgym !</strong></h2>
URL;VALUE=URI:https://saintjeangymnique.sportsregions.fr/evenements/2026/06/27/gala-fin-de-saison-2432322
END:VEVENT
END:VCALENDAR
