BEGIN:VCALENDAR
VERSION:2.0
PRODID:-//hacksw/handcal//NONSGML v1.0//EN
BEGIN:VEVENT
SUMMARY:Championnat de France Teamgym
UID:42e90bea-2dca-4519-92b5-854795cd1e77
DTSTART:20260528T220000Z
DTEND:20260531T220000Z
LOCATION:Localisation Complexe athletis  Pont-de-Ce
CATEGORIES:Sportif
STATUS:
DESCRIPTION:<h2 style="text-align:center;"><span
 style="color:#000000;">Championnat de France et Trophee Federale
 Teamgym</span></h2>
 
 <p> </p>
 
 <h2><span
 style="color:#000000;"><u>Vendredi apres-midi</u> : Federale A et
 Federale B juniors</span></h2>
 
 <h2><span
 style="color:#000000;"><u>Samedi Matin</u> : Nationale B</span></h2>
URL;VALUE=URI:https://saintjeangymnique.sportsregions.fr/evenements/2026/05/29/championnat-de-france-teamgym-2430743
END:VEVENT
END:VCALENDAR
