BEGIN:VCALENDAR
VERSION:2.0
PRODID:-//hacksw/handcal//NONSGML v1.0//EN
BEGIN:VEVENT
SUMMARY:Division Departemental Session 2
UID:63670c04-ea0e-46f8-9f2b-6cb787535f92
DTSTART:20260515T220000Z
DTEND:20260517T220000Z
LOCATION:Localisation   Muret
CATEGORIES:Sportif
STATUS:
URL;VALUE=URI:https://saintjeangymnique.sportsregions.fr/evenements/2026/05/16/division-departemental-session-2-2430740
END:VEVENT
END:VCALENDAR
