BEGIN:VCALENDAR
VERSION:2.0
PRODID:-//hacksw/handcal//NONSGML v1.0//EN
BEGIN:VEVENT
SUMMARY:Finale Interdepartementale Fed'Occ & Fed B
UID:a12a5c0d-a85c-4540-81c9-4301976c155a
DTSTART:20260507T220000Z
DTEND:20260510T220000Z
LOCATION:Saint Jean Gymnique Espace Rene Cassin, Route de Montrabe 31240 Saint Jean
CATEGORIES:Sportif
STATUS:
DESCRIPTION:<h2 style="text-align:center;">Finale Interdepartementale
 Fed'Occ & Fed B</h2>
URL;VALUE=URI:https://saintjeangymnique.sportsregions.fr/evenements/2026/05/08/finale-interdepartementale-fedocc-fed-b-2430737
END:VEVENT
END:VCALENDAR
